BEGIN:VCALENDAR
PRODID:-//eluceo/ical//2.0/EN
VERSION:2.0
CALSCALE:GREGORIAN
BEGIN:VEVENT
UID:6d81bc1c95951d18d14a2b3f1ae27a92
DTSTAMP:20260425T181301Z
SUMMARY:Beth El Salon  Rubber City Jews
DESCRIPTION:Shaw JCC of Akron\nCalendar\nhttps://shawjcc.org/calendar/beth-
 el-salon--rubber-city-jews-1499367168-237259\n\nMeet and greet the new Bet
 h El clergy. Open to Rubber City Jews
DTSTART;TZID=America/New_York:20170809T073000
DTEND;TZID=America/New_York:20170809T210000
END:VEVENT
END:VCALENDAR
