BEGIN:VCALENDAR
PRODID:-//eluceo/ical//2.0/EN
VERSION:2.0
CALSCALE:GREGORIAN
BEGIN:VEVENT
UID:813953b75f0e88cc5070bf4d7104a8c4
DTSTAMP:20260425T135731Z
SUMMARY:Beth El Speaker Series
DESCRIPTION:Shaw JCC of Akron\nCalendar\nhttps://shawjcc.org/calendar/beth-
 el-speaker-seriesmay-315015\n\nBeth El Adult Ed Speaker Series
DTSTART;TZID=America/New_York:20200510T084500
DTEND;TZID=America/New_York:20200510T110000
END:VEVENT
END:VCALENDAR
