BEGIN:VCALENDAR
PRODID:-//eluceo/ical//2.0/EN
VERSION:2.0
CALSCALE:GREGORIAN
BEGIN:VEVENT
UID:bc717b78ba04be239393b10a03ad0444
DTSTAMP:20260420T100827Z
SUMMARY:Beth El Sukkah Decorating & Dinner
DESCRIPTION:Shaw JCC of Akron\nCalendar\nhttps://shawjcc.org/calendar/beth-
 el-sukkah-decorating-dinner-266592\n\nWelcome in Sukkot! Enjoy dinner and 
 help decorate the Beth El Sukkah.
DTSTART;TZID=America/New_York:20180923T163000
DTEND;TZID=America/New_York:20180923T191500
END:VEVENT
END:VCALENDAR
