BEGIN:VCALENDAR
PRODID:-//eluceo/ical//2.0/EN
VERSION:2.0
CALSCALE:GREGORIAN
BEGIN:VEVENT
UID:5e4167e5d73a0eeb799da6b8547bdfe4
DTSTAMP:20260423T150213Z
SUMMARY:Beth El Sukkot Sukkat Decorating
DESCRIPTION:Shaw JCC of Akron\nCalendar\nhttps://shawjcc.org/calendar/beth-
 el-sukkot-sukkat-decorating-198643\n\nSukkah Decorating
DTSTART;TZID=America/New_York:20171001T160000
DTEND;TZID=America/New_York:20171001T180000
END:VEVENT
END:VCALENDAR
