BEGIN:VCALENDAR
PRODID:-//eluceo/ical//2.0/EN
VERSION:2.0
CALSCALE:GREGORIAN
BEGIN:VEVENT
UID:d7a5fe561b8683fb799023793264d9cb
DTSTAMP:20260420T121441Z
SUMMARY:JCBA BOARD
DESCRIPTION:Shaw JCC of Akron\nCalendar\nhttps://shawjcc.org/calendar/board
 -mtg-198860\n\nMeeting
DTSTART;TZID=America/New_York:20170124T190000
DTEND;TZID=America/New_York:20170124T200000
END:VEVENT
END:VCALENDAR
