BEGIN:VCALENDAR
PRODID:-//eluceo/ical//2.0/EN
VERSION:2.0
CALSCALE:GREGORIAN
BEGIN:VEVENT
UID:d4070f04f80e71838b4ca19586f16c55
DTSTAMP:20260425T225522Z
SUMMARY:Boy Scout Overnight at JCC
DESCRIPTION:Shaw JCC of Akron\nCalendar\nhttps://shawjcc.org/calendar/boy-s
 cout-overnight-at-jcc-1505415699-246762\n\n.
DTSTART;TZID=America/New_York:20180113T190000
DTEND;TZID=America/New_York:20180114T070000
END:VEVENT
END:VCALENDAR
