BEGIN:VCALENDAR
PRODID:-//eluceo/ical//2.0/EN
VERSION:2.0
CALSCALE:GREGORIAN
BEGIN:VEVENT
UID:946814707a2d85fbd1ec20c17cd89faf
DTSTAMP:20260424T072815Z
SUMMARY:Boycott\, Divestment and Sanctions (BDS) Movement
DESCRIPTION:Shaw JCC of Akron\nCalendar\nhttps://shawjcc.org/calendar/boyco
 tt-divestment-and-sanctions-bds-movement-1511120888-252877\n\nMax Chamovit
 z\, assist director of the Israel Action Network\, will speak about the BD
 S movement and how it effects business\, college campuses and major organi
 zational groups.
DTSTART;TZID=America/New_York:20180205T183000
DTEND;TZID=America/New_York:20180205T203000
END:VEVENT
END:VCALENDAR
