BEGIN:VCALENDAR
PRODID:-//eluceo/ical//2.0/EN
VERSION:2.0
CALSCALE:GREGORIAN
BEGIN:VEVENT
UID:c777f5f1385c8c2e3883ada3294d545a
DTSTAMP:20260421T160401Z
SUMMARY:Brain Health Talk
DESCRIPTION:Shaw JCC of Akron\nCalendar\nhttps://shawjcc.org/calendar/brain
 -health-talk-1479326473-213353\n\nThis presentation\, in partnership with 
 Menorah Park Home Health Services\, will provide information on how the br
 ain ages\, what causes the brain to age\, and how to help reduce the aging
  process of the brain. This lecture discusses risks and threats to brain h
 ealth and techniques for improving brain health. This is a FREE lecture an
 d memory screening. 
DTSTART;TZID=America/New_York:20170131T104500
DTEND;TZID=America/New_York:20170131T123000
END:VEVENT
END:VCALENDAR
