BEGIN:VCALENDAR
PRODID:-//eluceo/ical//2.0/EN
VERSION:2.0
CALSCALE:GREGORIAN
BEGIN:VEVENT
UID:f379aec5e4dba9429aea1016dcea062e
DTSTAMP:20260420T115918Z
SUMMARY:Anshe Sfard Breakfast Raffle
DESCRIPTION:Shaw JCC of Akron\nCalendar\nhttps://shawjcc.org/calendar/break
 fast-raffle-1753209885-496512\n\nAnnual fundraiser
DTSTART;TZID=America/New_York:20251123T100000
DTEND;TZID=America/New_York:20251123T120000
END:VEVENT
END:VCALENDAR
