BEGIN:VCALENDAR
PRODID:-//eluceo/ical//2.0/EN
VERSION:2.0
CALSCALE:GREGORIAN
BEGIN:VEVENT
UID:6dad5bf7808219f88f6d4f846c70571c
DTSTAMP:20260423T031032Z
SUMMARY:Camp Committee Meeting
DESCRIPTION:Shaw JCC of Akron\nCalendar\nhttps://shawjcc.org/calendar/camp-
 committee-meeting-1572459527-332939\n\nCamp Committee Meeting
DTSTART;TZID=America/New_York:20191111T180000
DTEND;TZID=America/New_York:20191111T190000
END:VEVENT
END:VCALENDAR
