BEGIN:VCALENDAR
PRODID:-//eluceo/ical//2.0/EN
VERSION:2.0
CALSCALE:GREGORIAN
BEGIN:VEVENT
UID:64d16232cee82f966e21c0f1134771f6
DTSTAMP:20260421T121716Z
SUMMARY:Camp JCC Meet Your Counselor Night
DESCRIPTION:Shaw JCC of Akron\nCalendar\nhttps://shawjcc.org/calendar/camp-
 jcc-meet-your-counselor-night-1571323034-331626\n\nFor parents and campers
 . Stop in to meet Camp JCC staff\, ask questions\, and meet other campers!
DTSTART;TZID=America/New_York:20200604T173000
DTEND;TZID=America/New_York:20200604T183000
END:VEVENT
END:VCALENDAR
