BEGIN:VCALENDAR
PRODID:-//eluceo/ical//2.0/EN
VERSION:2.0
CALSCALE:GREGORIAN
BEGIN:VEVENT
UID:588408bf2cd68b1019943f1c2628d4d0
DTSTAMP:20260423T025529Z
SUMMARY:Camp Pavilion Renovation Dedication
DESCRIPTION:Shaw JCC of Akron\nCalendar\nhttps://shawjcc.org/calendar/camp-
 pavillion-renovation-dedication-1497298960-234389\n\nDedication of Camp Pa
 vilion dedication plaque
DTSTART;TZID=America/New_York:20170628T173000
DTEND;TZID=America/New_York:20170628T183000
END:VEVENT
END:VCALENDAR
