BEGIN:VCALENDAR
PRODID:-//eluceo/ical//2.0/EN
VERSION:2.0
CALSCALE:GREGORIAN
BEGIN:VEVENT
UID:3ae0ed78fe5958b97dba6d7b9a974dbd
DTSTAMP:20260421T153538Z
SUMMARY:Campus Boards Orientation
DESCRIPTION:Shaw JCC of Akron\nCalendar\nhttps://shawjcc.org/calendar/campu
 s-boards-orientation-474095\n\nOrientation for new board members of the ca
 mpus agencies.
DTSTART;TZID=America/New_York:20240826T170000
DTEND;TZID=America/New_York:20240826T183000
END:VEVENT
END:VCALENDAR
