BEGIN:VCALENDAR
PRODID:-//eluceo/ical//2.0/EN
VERSION:2.0
CALSCALE:GREGORIAN
BEGIN:VEVENT
UID:aa911c2dfc70ff52086fa66dec122421
DTSTAMP:20260424T115256Z
SUMMARY:Campus Gala
DESCRIPTION:Shaw JCC of Akron\nCalendar\nhttps://shawjcc.org/calendar/campu
 s-gala-1595345665-358603\n\n.
DTSTART;TZID=America/New_York:20201018T193000
DTEND;TZID=America/New_York:20201018T220000
END:VEVENT
END:VCALENDAR
