BEGIN:VCALENDAR
PRODID:-//eluceo/ical//2.0/EN
VERSION:2.0
CALSCALE:GREGORIAN
BEGIN:VEVENT
UID:e6b28c08aec0834a8ecf36d8010535c7
DTSTAMP:20260421T205924Z
SUMMARY:Campus Staff Training
DESCRIPTION:Shaw JCC of Akron\nCalendar\nhttps://shawjcc.org/calendar/campu
 s-staff-training-1643655381-398916\n\n.
DTSTART;TZID=America/New_York:20220223T173000
DTEND;TZID=America/New_York:20220223T190000
END:VEVENT
END:VCALENDAR
