BEGIN:VCALENDAR
PRODID:-//eluceo/ical//2.0/EN
VERSION:2.0
CALSCALE:GREGORIAN
BEGIN:VEVENT
UID:cf5a6a76d354ae2fe7c2fb89dfa693c4
DTSTAMP:20260423T094642Z
SUMMARY:Cantor Music Concert
DESCRIPTION:Shaw JCC of Akron\nCalendar\nhttps://shawjcc.org/calendar/canto
 r-music-concert-208022\n\nJoin Cantor Kathy Fromson for her Cantor Music 
 Concert.
DTSTART;TZID=America/New_York:20170325T170000
DTEND;TZID=America/New_York:20170325T210000
END:VEVENT
END:VCALENDAR
