BEGIN:VCALENDAR
PRODID:-//eluceo/ical//2.0/EN
VERSION:2.0
CALSCALE:GREGORIAN
BEGIN:VEVENT
UID:b8d7937a05276af9c9a5fc324983564d
DTSTAMP:20260420T135109Z
SUMMARY:Chanukah At Home Depot
DESCRIPTION:Shaw JCC of Akron\nCalendar\nhttps://shawjcc.org/calendar/chanu
 kah-at-home-depot-1501080495-240289\n\nChanukah at Home Depot
DTSTART;TZID=America/New_York:20171210T093000
DTEND;TZID=America/New_York:20171210T093000
END:VEVENT
END:VCALENDAR
