BEGIN:VCALENDAR
PRODID:-//eluceo/ical//2.0/EN
VERSION:2.0
CALSCALE:GREGORIAN
BEGIN:VEVENT
UID:5754d1696028bd7db405d520b487da34
DTSTAMP:20260421T091953Z
SUMMARY:Chanukah at Summit Mall
DESCRIPTION:Shaw JCC of Akron\nCalendar\nhttps://shawjcc.org/calendar/chanu
 kah-at-summit-mall-1501181162-240480\n\nCommunity Chanukah celebration at 
 Summit Mall.
DTSTART;TZID=America/New_York:20171214T183000
DTEND;TZID=America/New_York:20171214T200000
END:VEVENT
END:VCALENDAR
