BEGIN:VCALENDAR
PRODID:-//eluceo/ical//2.0/EN
VERSION:2.0
CALSCALE:GREGORIAN
BEGIN:VEVENT
UID:50e29078c837a1c1556dd100dda577d1
DTSTAMP:20260425T014128Z
SUMMARY:Charity\, Cocktails and Comedy!
DESCRIPTION:Shaw JCC of Akron\nCalendar\nhttps://shawjcc.org/calendar/chari
 ty-cocktails-and-comedy-213058\n\nThe Volunteer Guardian Program\, a colla
 boration of Jewish Family Service\, will hold its first fundraiser May 4 a
 t The Tangier’s Cabaret. “Charity\, Cocktails and Comedy” will start
  at 5:30 p.m. and includes a night with comedians Shawn Boyd\, Jill Smith\
 , Jasymn Carter\, Marlena Mann\, Ryan Yex\, Angelo and Ned Parks\, and Jas
 en Sokol from 1590 WAKR will emcee the event. \n\n \n\nGeneral admission
  is $50 ($25 is tax deductible) and includes heavy appetizers\, two drink 
 tickets\, networking opp...
DTSTART;TZID=America/New_York:20170504T180000
DTEND;TZID=America/New_York:20170504T220000
END:VEVENT
END:VCALENDAR
