BEGIN:VCALENDAR
PRODID:-//eluceo/ical//2.0/EN
VERSION:2.0
CALSCALE:GREGORIAN
BEGIN:VEVENT
UID:b504ac22602841df59e451bebf922a3e
DTSTAMP:20260422T132357Z
SUMMARY:Anshe Sfard Chinese Dinner
DESCRIPTION:Shaw JCC of Akron\nCalendar\nhttps://shawjcc.org/calendar/chine
 se-dinner-1753210056-496514\n\nFamily /community Chinese dinner and a movi
 e
DTSTART;TZID=America/New_York:20251225T163000
DTEND;TZID=America/New_York:20251225T203000
END:VEVENT
END:VCALENDAR
