BEGIN:VCALENDAR
PRODID:-//eluceo/ical//2.0/EN
VERSION:2.0
CALSCALE:GREGORIAN
BEGIN:VEVENT
UID:1a5ca866ac671a05dae0989f1914d695
DTSTAMP:20260423T120201Z
SUMMARY:Chinese Dinner at Anshe Sfard
DESCRIPTION:Shaw JCC of Akron\nCalendar\nhttps://shawjcc.org/calendar/chine
 se-dinner-at-anshe-sfard-1594922460-358358\n\nChinese Dinner at Anshe Sfar
 d
DTSTART;TZID=America/New_York:20201224T160000
DTEND;TZID=America/New_York:20201224T180000
END:VEVENT
END:VCALENDAR
