BEGIN:VCALENDAR
PRODID:-//eluceo/ical//2.0/EN
VERSION:2.0
CALSCALE:GREGORIAN
BEGIN:VEVENT
UID:71529d3aa339f0511551187d7dd17399
DTSTAMP:20260421T053416Z
SUMMARY:Chocolate Seder at the Shaw JCC
DESCRIPTION:Shaw JCC of Akron\nCalendar\nhttps://shawjcc.org/calendar/choco
 late-seder-at-the-shaw-jcc-1512711164-255633\n\nMeet new friends and famil
 ies while getting in the Passover mood at our family-friendly Chocolate Se
 der with chocolate versions of the Passover symbols. How many seders have 
 you been to where you get to make s’mores\, dip strawberries in chocolat
 e and drink four cups of chocolate milk? Enjoy this fun\, interactive Sede
 r with Shabbat Scott and Julie sing-alongs\, prizes\, and of course… lot
 s of CHOCOLATE! \n\nCost: $3 per person reserved\, $5 per person at the d
 oor (children 2 and under are fr...
DTSTART;TZID=America/New_York:20180324T183000
DTEND;TZID=America/New_York:20180324T203000
END:VEVENT
END:VCALENDAR
