BEGIN:VCALENDAR
PRODID:-//eluceo/ical//2.0/EN
VERSION:2.0
CALSCALE:GREGORIAN
BEGIN:VEVENT
UID:4935a7feb9e510bbc96d1f902d10f466
DTSTAMP:20260424T052308Z
SUMMARY:The Archaeology of the Portage Path with Dr. Brian Redmond
DESCRIPTION:Shaw JCC of Akron\nCalendar\nhttps://shawjcc.org/calendar/comme
 rating-north-american-first-people-day-269058\n\n7:30 pm Lecture: “The A
 rchaeology of the Portage Path” with Dr. Brian Redmond\, Cleveland Museu
 m of Natural History\, Stewards of Historical Preservation          
      
DTSTART;TZID=America/New_York:20180927T193000
DTEND;TZID=America/New_York:20180927T210000
END:VEVENT
END:VCALENDAR
