BEGIN:VCALENDAR
PRODID:-//eluceo/ical//2.0/EN
VERSION:2.0
CALSCALE:GREGORIAN
BEGIN:VEVENT
UID:2c53956eee28ffc084d49ed81b4fabc1
DTSTAMP:20260422T004132Z
SUMMARY:Commnuity Shabbat Dinner at Anshe Sfard
DESCRIPTION:Shaw JCC of Akron\nCalendar\nhttps://shawjcc.org/calendar/commn
 uity-shabbat-dinner-at-anshe-sfard-1509558683-251228\n\nThe Akron Jewish c
 ommunity is invited to come together for a series of Community Shabbat Din
 ners in 2018. The first will be held on Feb. 16 at Anshe Sfard\, starting 
 at 5:30 p.m. with a Kabbalat Shabbat service and dinner at 6 p.m.\n\nThe e
 vening's speaker will be Dr. Bernd Wollschlaeger. He will share his amazin
 g life story\, as chronicled in his book A German Life: Against All Odds C
 hange is Possible\, which describes his struggle growing up in Germany in 
 the shadow of his father\, a highly-dec...
DTSTART;TZID=America/New_York:20180216T173000
DTEND;TZID=America/New_York:20180216T210000
END:VEVENT
END:VCALENDAR
