BEGIN:VCALENDAR
PRODID:-//eluceo/ical//2.0/EN
VERSION:2.0
CALSCALE:GREGORIAN
BEGIN:VEVENT
UID:00a934b983c4d97c4ba0203087abec6d
DTSTAMP:20260425T112353Z
SUMMARY:Community Challah Bake at Anshe Sfard
DESCRIPTION:Shaw JCC of Akron\nCalendar\nhttps://shawjcc.org/calendar/commu
 nity-challah-bake-at-anshe-sfard-1666717930-420342\n\nChallah bake
DTSTART;TZID=America/New_York:20230122T160000
DTEND;TZID=America/New_York:20230122T180000
END:VEVENT
END:VCALENDAR
