BEGIN:VCALENDAR
PRODID:-//eluceo/ical//2.0/EN
VERSION:2.0
CALSCALE:GREGORIAN
BEGIN:VEVENT
UID:b4b4be2656995c79add477bbcfbea32c
DTSTAMP:20260423T081503Z
SUMMARY:Community Lag B'Omer Picnic
DESCRIPTION:Shaw JCC of Akron\nCalendar\nhttps://shawjcc.org/calendar/commu
 nity-lag-bomer-picnic-1761318265-503552\n\nCommunity celebration for Lag B
 'Omer at Anshe Sfard
DTSTART;TZID=America/New_York:20260505T170000
DTEND;TZID=America/New_York:20260505T200000
END:VEVENT
END:VCALENDAR
