BEGIN:VCALENDAR
PRODID:-//eluceo/ical//2.0/EN
VERSION:2.0
CALSCALE:GREGORIAN
BEGIN:VEVENT
UID:b5cb146d48b13150efe907e77879dc7c
DTSTAMP:20260422T075820Z
SUMMARY:Community Menorah Lighting Chanukah at the Summit Mall
DESCRIPTION:Shaw JCC of Akron\nCalendar\nhttps://shawjcc.org/calendar/commu
 nity-menorah-lighting-chanukah-at-the-summit-mall-1631545756-389640\n\nCom
 munity Menorah Lighting Chanukah at the Summit Mall
DTSTART;TZID=America/New_York:20211205T173000
DTEND;TZID=America/New_York:20211205T193000
END:VEVENT
END:VCALENDAR
