BEGIN:VCALENDAR
PRODID:-//eluceo/ical//2.0/EN
VERSION:2.0
CALSCALE:GREGORIAN
BEGIN:VEVENT
UID:49123edaf5445927b716b8589dda315f
DTSTAMP:20260422T173423Z
SUMMARY:Community Pesach Seder at Anshe Sfard
DESCRIPTION:Shaw JCC of Akron\nCalendar\nhttps://shawjcc.org/calendar/commu
 nity-pesach-seder-at-anshe-sfard-1663164905-417861\n\nCommunity 1st Seder 
 for Pesach
DTSTART;TZID=America/New_York:20230405T184500
DTEND;TZID=America/New_York:20230405T204500
END:VEVENT
END:VCALENDAR
