BEGIN:VCALENDAR
PRODID:-//eluceo/ical//2.0/EN
VERSION:2.0
CALSCALE:GREGORIAN
BEGIN:VEVENT
UID:566d4e46048c1a41829b2f61766583e4
DTSTAMP:20260422T133228Z
SUMMARY:Community Seder at Anshe Sfard
DESCRIPTION:Shaw JCC of Akron\nCalendar\nhttps://shawjcc.org/calendar/commu
 nity-seder-at-anshe-sfard-193776\n\nCommunity Seder
DTSTART;TZID=America/New_York:20170410T180000
DTEND;TZID=America/New_York:20170410T210000
END:VEVENT
END:VCALENDAR
