BEGIN:VCALENDAR
PRODID:-//eluceo/ical//2.0/EN
VERSION:2.0
CALSCALE:GREGORIAN
BEGIN:VEVENT
UID:e258e5ce807ee93904451e47095a93e5
DTSTAMP:20260422T193324Z
SUMMARY:Community Shabbat Dinner at Anshe Sfard
DESCRIPTION:Shaw JCC of Akron\nCalendar\nhttps://shawjcc.org/calendar/commu
 nity-shabbat-dinner-at-anshe-sfard-297796\n\nSAVE THE DATE\n\nFriday March
  1\, 2018 24 Adar I\, 5779 at Anshe Sfard \n\n5:30 p.m. Kabbalat Shabbat
  Services followed by Shabbat Dinner with Comedian Modi \n\n \n\nVoted o
 ne of the top 10 comedians in New York City by The Hollywood Reporter and 
 BackStage\, MODI is one of the comedy circuit’s most sought after perfor
 mers. Featured on HBO\, CBS\, NBC\, ABC\, Comedy Central\, Howard Stern\, 
 and E! Entertainment\, MODI has received rave reviews in The New York Time
 s\, Time Out NY and The New York Po...
DTSTART;TZID=America/New_York:20190301T173000
DTEND;TZID=America/New_York:20190301T193000
END:VEVENT
END:VCALENDAR
