BEGIN:VCALENDAR
PRODID:-//eluceo/ical//2.0/EN
VERSION:2.0
CALSCALE:GREGORIAN
BEGIN:VEVENT
UID:a32d9c02c62c976f96475454411fae25
DTSTAMP:20260425T031655Z
SUMMARY:Community Shabbat Dinner at Beth El Congregation
DESCRIPTION:Shaw JCC of Akron\nCalendar\nhttps://shawjcc.org/calendar/commu
 nity-shabbat-dinner-at-beth-el-congregation-315733\n\nThe final Community 
 Shabbat Dinner of the year features guest speaker Joe Buchanan\, who is a
  Texas native and makes country music that is steeped in Torah. He struggl
 ed with religion until one day outside of the Holocaust Museum in Washingt
 on\, D.C. and 13 years into their marriage\, his wife told him that she wa
 s Jewish. They explored Judaism as a family and it changed everything\, ev
 entually leading to his conversion and the debut album\, Unbroken.\n\nFor 
 ticket information\, visit www.shawjcc....
DTSTART;TZID=America/New_York:20190823T180000
DTEND;TZID=America/New_York:20190823T200000
END:VEVENT
END:VCALENDAR
