BEGIN:VCALENDAR
PRODID:-//eluceo/ical//2.0/EN
VERSION:2.0
CALSCALE:GREGORIAN
BEGIN:VEVENT
UID:d439d2079cf0c7f89826ff267eeb3df9
DTSTAMP:20260422T115359Z
SUMMARY:Concert of Unity
DESCRIPTION:Shaw JCC of Akron\nCalendar\nhttps://shawjcc.org/calendar/conce
 rt-of-unity-1692298221-445945\n\nCollaboration between Jewish Akron and th
 e John Brown Institute/Summit County Historical Society to present a conce
 rt at HUG (former Temple Israel building)\n\nGet Tickets Here.
DTSTART;TZID=America/New_York:20231015T160000
DTEND;TZID=America/New_York:20231015T180000
END:VEVENT
END:VCALENDAR
