BEGIN:VCALENDAR
PRODID:-//eluceo/ical//2.0/EN
VERSION:2.0
CALSCALE:GREGORIAN
BEGIN:VEVENT
UID:5c8c5eb7e01939786553b43882a74901
DTSTAMP:20260422T150135Z
SUMMARY:Considering Love and Marriage: Looking Back on Persian Brides
DESCRIPTION:Shaw JCC of Akron\nCalendar\nhttps://shawjcc.org/calendar/consi
 dering-love-and-marriage-looking-back-on-persian-brides-1552591046-304745\
 n\nWhen she was only 21 years old\, bestselling Israeli author Dorit Rabin
 yan wrote her acclaimed novel Persian Brides\, which takes her readers int
 o a fable of bittersweet desires – fulfilled and denied. Now\, 25 years 
 later\, Rabinyan looks back on her youth and on the conscious and unconsci
 ous powers that informed her earlier work. A book signing follows the talk
 .
DTSTART;TZID=America/New_York:20190404T100000
DTEND;TZID=America/New_York:20190404T110000
END:VEVENT
END:VCALENDAR
