BEGIN:VCALENDAR
PRODID:-//eluceo/ical//2.0/EN
VERSION:2.0
CALSCALE:GREGORIAN
BEGIN:VEVENT
UID:1876f817017b875a57c95498e3aaeea0
DTSTAMP:20260422T133329Z
SUMMARY:Conversations with the Rabbis
DESCRIPTION:Shaw JCC of Akron\nCalendar\nhttps://shawjcc.org/calendar/conve
 rsations-with-the-rabbis-1500059134-238556\n\nConversations with the Rabbi
 s\nRabbi Sasonkin\nRabbi Brown\nRabbi Austerklein
DTSTART;TZID=America/New_York:20170816T193000
DTEND;TZID=America/New_York:20170816T210000
END:VEVENT
END:VCALENDAR
