BEGIN:VCALENDAR
PRODID:-//eluceo/ical//2.0/EN
VERSION:2.0
CALSCALE:GREGORIAN
BEGIN:VEVENT
UID:890acbcce946f01c400d5fe03250913e
DTSTAMP:20260424T174954Z
SUMMARY:Conversations with the Rabbis at Beth El
DESCRIPTION:Shaw JCC of Akron\nCalendar\nhttps://shawjcc.org/calendar/conve
 rsations-with-the-rabbis-at-beth-el-1503674356-244596\n\nConversations wit
 h the Rabbi's of Anshe Sfard\, Beth and Temple Israel
DTSTART;TZID=America/New_York:20180124T190000
DTEND;TZID=America/New_York:20180124T210000
END:VEVENT
END:VCALENDAR
