BEGIN:VCALENDAR
PRODID:-//eluceo/ical//2.0/EN
VERSION:2.0
CALSCALE:GREGORIAN
BEGIN:VEVENT
UID:14501b316aa257ce332d67718cc5ef40
DTSTAMP:20260424T085134Z
SUMMARY:CTeen Shabbaton Weekend
DESCRIPTION:Shaw JCC of Akron\nCalendar\nhttps://shawjcc.org/calendar/cteen
 -shabbaton-weekend-191354\n\nCteen shabbaton weekend
DTSTART;TZID=America/New_York:20170223T120000
DTEND;TZID=America/New_York:20170226T210000
END:VEVENT
END:VCALENDAR
