BEGIN:VCALENDAR
PRODID:-//eluceo/ical//2.0/EN
VERSION:2.0
CALSCALE:GREGORIAN
BEGIN:VEVENT
UID:03669a82b34f8e1872da240a6a254ead
DTSTAMP:20260420T135537Z
SUMMARY:Daytime Coffee Talk: In The Gallery On David Berger
DESCRIPTION:Shaw JCC of Akron\nCalendar\nhttps://shawjcc.org/calendar/dayti
 me-coffee-talk-in-the-gallery-on-david-berger-1531346881-277760\n\nJoin us
  in the gallery to learn about Olympian David Berger’s Jewish Cleveland 
 roots with Western Reserve Historical Society’s Sean Martin\, Ph.D. Berg
 er was among 11 Israeli athletes\, coaches\, and officials killed by the P
 alestinian terrorist group Black September at the 1972 Olympic Games. Coff
 ee will be served.
DTSTART;TZID=America/New_York:20180712T113000
DTEND;TZID=America/New_York:20180712T120000
END:VEVENT
END:VCALENDAR
