BEGIN:VCALENDAR
PRODID:-//eluceo/ical//2.0/EN
VERSION:2.0
CALSCALE:GREGORIAN
BEGIN:VEVENT
UID:0a05246c7f36358a922f3a5858441844
DTSTAMP:20260424T143830Z
SUMMARY:Dine & Discuss for J-Ticket Families
DESCRIPTION:Shaw JCC of Akron\nCalendar\nhttps://shawjcc.org/calendar/dine-
 discuss-for-j-ticket-families-302278\n\nDINE & DISCUSS\n\nMONDAY\, MARCH 1
 8 | 5:30-7 PM\nSchultz Campus for Jewish Life at 750 White Pond Drive\, Ak
 ron\n\nWe're so very grateful for our J-Ticket families. Please join us fo
 r dinner\, so we can THANK YOU!\n\nPlus\, we want to hear from you. Discus
 s the J-Ticket program with the Schultz Campus Agency Executives: Todd P
 olikoff\, CEO\, Jewish Community Board of Akron\; Sam Chestnut\, Head o
 f School\, The Lippman School\; John Keverkamp\, Executive Director\, S
 haw JCC of Akron. \n\n\nChildc...
DTSTART;TZID=America/New_York:20190318T173000
DTEND;TZID=America/New_York:20190318T190000
END:VEVENT
END:VCALENDAR
