BEGIN:VCALENDAR
PRODID:-//eluceo/ical//2.0/EN
VERSION:2.0
CALSCALE:GREGORIAN
BEGIN:VEVENT
UID:e7baec93747c1ca1e81c134c1d7f28fc
DTSTAMP:20260422T030324Z
SUMMARY:Dr. Moshe Torem M.D.
DESCRIPTION:Shaw JCC of Akron\nCalendar\nhttps://shawjcc.org/calendar/dr-mo
 she-torem-md-338083\n\nDr. Torem will speak at the JCC on “Personal Habi
 ts and Life Styles to Maintain Good Health”. All are welcome. Reservatio
 ns not necessary.\n\nTues.\, Jan 7. 6 p.m.\n\nTUES.\, JAN. 14 6 PM\n\nDr. 
 Torem will speak on “Activating and Maintaining a Strong Immune System
 ”.
DTSTART;TZID=America/New_York:20200107T180000
DTEND;TZID=America/New_York:20200107T190000
END:VEVENT
END:VCALENDAR
