BEGIN:VCALENDAR
PRODID:-//eluceo/ical//2.0/EN
VERSION:2.0
CALSCALE:GREGORIAN
BEGIN:VEVENT
UID:48ad9f90641db09d1ca4b92a54a4d888
DTSTAMP:20260423T171303Z
SUMMARY:Drive in Movie for Campus Campaign CANCELLED
DESCRIPTION:Shaw JCC of Akron\nCalendar\nhttps://shawjcc.org/calendar/drive
 -in-movie-for-campus-campaign-ratatouille-369157\n\nThis event has been ca
 ncelled due to the Coronavirus situation
DTSTART;TZID=America/New_York:20201205T180000
DTEND;TZID=America/New_York:20201205T200000
END:VEVENT
END:VCALENDAR
