BEGIN:VCALENDAR
PRODID:-//eluceo/ical//2.0/EN
VERSION:2.0
CALSCALE:GREGORIAN
BEGIN:VEVENT
UID:56addac734c1e6efca222b61d253be26
DTSTAMP:20260425T205108Z
SUMMARY:Drumming Weekend\, Pt 1
DESCRIPTION:Shaw JCC of Akron\nCalendar\nhttps://shawjcc.org/calendar/drumm
 ing-weekend-pt-1-256372\n\nBeth El Drumming Weekend\, Pt 1 in conjunction 
 with Lev Tahor
DTSTART;TZID=America/New_York:20180413T070000
DTEND;TZID=America/New_York:20180413T200000
END:VEVENT
END:VCALENDAR
