BEGIN:VCALENDAR
PRODID:-//eluceo/ical//2.0/EN
VERSION:2.0
CALSCALE:GREGORIAN
BEGIN:VEVENT
UID:e22b0314cba807c012d14b86308a1766
DTSTAMP:20260420T020056Z
SUMMARY:Drumming Workshop
DESCRIPTION:Shaw JCC of Akron\nCalendar\nhttps://shawjcc.org/calendar/drumm
 ing-workshop-256371\n\nBeth El Miriam's Drumming Workshop
DTSTART;TZID=America/New_York:20180415T110000
DTEND;TZID=America/New_York:20180415T140000
END:VEVENT
END:VCALENDAR
