BEGIN:VCALENDAR
PRODID:-//eluceo/ical//2.0/EN
VERSION:2.0
CALSCALE:GREGORIAN
BEGIN:VEVENT
UID:e293020e6348f59e738dad78a738d47f
DTSTAMP:20260424T055427Z
SUMMARY:ECE Sukkot Festival
DESCRIPTION:Shaw JCC of Akron\nCalendar\nhttps://shawjcc.org/calendar/ece-s
 ukkot-festival-1531167629-277470\n\n.
DTSTART;TZID=America/New_York:20180926T160000
DTEND;TZID=America/New_York:20180926T180000
END:VEVENT
END:VCALENDAR
