BEGIN:VCALENDAR
PRODID:-//eluceo/ical//2.0/EN
VERSION:2.0
CALSCALE:GREGORIAN
BEGIN:VEVENT
UID:67bc2f9cbfdf4855cd3b24309b494e81
DTSTAMP:20260424T065239Z
SUMMARY:ECE Task Force Meeting
DESCRIPTION:Shaw JCC of Akron\nCalendar\nhttps://shawjcc.org/calendar/ece-t
 ask-force-meeting-1569445200-330296\n\n.
DTSTART;TZID=America/New_York:20191017T180000
DTEND;TZID=America/New_York:20191017T190000
END:VEVENT
END:VCALENDAR
