BEGIN:VCALENDAR
PRODID:-//eluceo/ical//2.0/EN
VERSION:2.0
CALSCALE:GREGORIAN
BEGIN:VEVENT
UID:7edbf443283a9c389f34c4b2d9deaddb
DTSTAMP:20260421T211243Z
SUMMARY:Engagement Committee
DESCRIPTION:Shaw JCC of Akron\nCalendar\nhttps://shawjcc.org/calendar/engag
 ement-committee-1609262216-370939\n\nEngagement Committee
DTSTART;TZID=America/New_York:20210114T190000
DTEND;TZID=America/New_York:20210114T200000
END:VEVENT
END:VCALENDAR
