BEGIN:VCALENDAR
PRODID:-//eluceo/ical//2.0/EN
VERSION:2.0
CALSCALE:GREGORIAN
BEGIN:VEVENT
UID:cd2654420ba441d1f158ecc877cd8cff
DTSTAMP:20260424T133421Z
SUMMARY:Ethan Massary Bar Mitzvah
DESCRIPTION:Shaw JCC of Akron\nCalendar\nhttps://shawjcc.org/calendar/ethan
 -massary-bar-mitzvah-211873\n\nEthan Massary Bar Mitzvah at Temple Israel
DTSTART;TZID=America/New_York:20180526T103000
DTEND;TZID=America/New_York:20180526T120000
END:VEVENT
END:VCALENDAR
