BEGIN:VCALENDAR
PRODID:-//eluceo/ical//2.0/EN
VERSION:2.0
CALSCALE:GREGORIAN
BEGIN:VEVENT
UID:8706c45c1499f320c5e7b220e0e4790e
DTSTAMP:20260425T190145Z
SUMMARY:Executive Committee Meeting Lippman
DESCRIPTION:Shaw JCC of Akron\nCalendar\nhttps://shawjcc.org/calendar/execu
 tive-committee-meeting-lippman-198707\n\nExecutive Committee meeting
DTSTART;TZID=America/New_York:20170427T174500
DTEND;TZID=America/New_York:20170427T190000
END:VEVENT
END:VCALENDAR
