BEGIN:VCALENDAR
PRODID:-//eluceo/ical//2.0/EN
VERSION:2.0
CALSCALE:GREGORIAN
BEGIN:VEVENT
UID:cc81b1d5b00117351c74656bcff447b5
DTSTAMP:20260424T051524Z
SUMMARY:The Lippman School Executive Meeting
DESCRIPTION:Shaw JCC of Akron\nCalendar\nhttps://shawjcc.org/calendar/execu
 tive-meeting-3-198703\n\nExecutive Committee meeting.
DTSTART;TZID=America/New_York:20170223T174500
DTEND;TZID=America/New_York:20170223T190000
END:VEVENT
END:VCALENDAR
