BEGIN:VCALENDAR
PRODID:-//eluceo/ical//2.0/EN
VERSION:2.0
CALSCALE:GREGORIAN
BEGIN:VEVENT
UID:5c97b8c5d71a5a83f21b5d19d61554fa
DTSTAMP:20260423T063304Z
SUMMARY:Family Fun Night
DESCRIPTION:Shaw JCC of Akron\nCalendar\nhttps://shawjcc.org/calendar/famil
 y-fun-night-1572897182-333303\n\nDetails TBD
DTSTART;TZID=America/New_York:20200215T190000
DTEND;TZID=America/New_York:20200215T220000
END:VEVENT
END:VCALENDAR
