BEGIN:VCALENDAR
PRODID:-//eluceo/ical//2.0/EN
VERSION:2.0
CALSCALE:GREGORIAN
BEGIN:VEVENT
UID:51b20dc9e15018ca78af645b59dc19d4
DTSTAMP:20260425T153143Z
SUMMARY:Family Night
DESCRIPTION:Shaw JCC of Akron\nCalendar\nhttps://shawjcc.org/calendar/famil
 y-night\n\nYou are invited to Family Night!\n\nEvery Tuesday and Thursday 
 from 6-7:45 p.m. (through August 27th)\n\nFamilies are welcome to come to 
 the outdoor pool!\n\nMake reservations by calling 330-867-7850\n\nSpace is
  limited. 
DTSTART;TZID=America/New_York:20200721T180000
DTEND;TZID=America/New_York:20200721T194500
END:VEVENT
END:VCALENDAR
